BEGIN:VCALENDAR
VERSION:2.0
PRODID:-//Laufladen Bonn - ECPv6.9.1//NONSGML v1.0//EN
CALSCALE:GREGORIAN
METHOD:PUBLISH
X-ORIGINAL-URL:https://laufladen-bonn.de/en/
X-WR-CALDESC:Events for Laufladen Bonn
REFRESH-INTERVAL;VALUE=DURATION:PT1H
X-Robots-Tag:noindex
X-PUBLISHED-TTL:PT1H
BEGIN:VTIMEZONE
TZID:Europe/Berlin
BEGIN:DAYLIGHT
TZOFFSETFROM:+0100
TZOFFSETTO:+0200
TZNAME:CEST
DTSTART:20260329T010000
END:DAYLIGHT
BEGIN:STANDARD
TZOFFSETFROM:+0200
TZOFFSETTO:+0100
TZNAME:CET
DTSTART:20261025T010000
END:STANDARD
END:VTIMEZONE
BEGIN:VEVENT
DTSTART;TZID=Europe/Berlin:20260418T090000
DTEND;TZID=Europe/Berlin:20260418T100000
DTSTAMP:20260423T120924
CREATED:20260313T134740Z
LAST-MODIFIED:20260326T100400Z
UID:10447-1776502800-1776506400@laufladen-bonn.de
SUMMARY:Shake Out Run
DESCRIPTION:On April 18\, 2026\, one day before the Deutsche Post Marathon Bonn\, we invite you to the Shake Out Run! This run is the ideal opportunity to relax and get into marathon mode and “run out” the last nerves.  \nWe will run 5 km in three pace groups (5:30 min/km\, 6:00 min/km\, 6:30 min/km). Diadora will bring test shoes for everyone who wants to try them out! We therefore ask you to register so that we can plan better.  \nThe meeting point is at the Diadora stand on Münsterplatz in Bonn in front of the trade fair tent\, starting at 9:00 a.m. – if you would like to try out test shoes\, please come a little earlier. \nWe are really looking forward to seeing you! \nYour team from Absolute Run – Laufladen Bonn \nf4fa5a459f070d9e93e1f907e10f63195b448a7bdbeea0be7d7f758f5f8ee90b
URL:https://laufladen-bonn.de/en/veranstaltungen/shake-out-run-2/
LOCATION:Münsterplatz Bonn\, Münsterplatz\, Bonn\, 53111\, Germany
ATTACH;FMTTYPE=image/png:https://laufladen-bonn.de/wp-content/uploads/2026/03/ShakeOutRunWebseite-e1774519324724.png
END:VEVENT
BEGIN:VEVENT
DTSTART;TZID=Europe/Berlin:20260419T080000
DTEND;TZID=Europe/Berlin:20260419T170000
DTSTAMP:20260423T120924
CREATED:20260107T161313Z
LAST-MODIFIED:20260107T161313Z
UID:9560-1776585600-1776618000@laufladen-bonn.de
SUMMARY:Deutsche Post Marathon Bonn
DESCRIPTION:
URL:https://laufladen-bonn.de/en/veranstaltungen/deutsche-post-marathon-bonn-3/
LOCATION:Belderberg\, Belderberg\, Bonn\, 53111
ATTACH;FMTTYPE=image/jpeg:https://laufladen-bonn.de/wp-content/uploads/2025/01/Post-Marathon.jpg
END:VEVENT
BEGIN:VEVENT
DTSTART;TZID=Europe/Berlin:20260429T183000
DTEND;TZID=Europe/Berlin:20260429T213000
DTSTAMP:20260423T120925
CREATED:20260421T111332Z
LAST-MODIFIED:20260421T111343Z
UID:10655-1777487400-1777498200@laufladen-bonn.de
SUMMARY:Adidas Supernova Charge 2 - Community Run
DESCRIPTION:On April 29\, Adidas will visit us at our weekly Community Run and bring the new Supernova Charge 2 for testing. Join us for a nice run through Bonn. As always\, we will run in three different pace groups (5:30min./6:00min./6:30min.) and then come together again at the Absolute Run running store in Bonn to relax and chat.   \nSo that we can plan this event well\, participation is only possible with registration. We are already looking forward to seeing you\, \nYour team from Absolute Run Laufladen Bonn
URL:https://laufladen-bonn.de/en/veranstaltungen/adidas-supernova-charge-2-community-run/
LOCATION:Absolute Run – Laufladen Bonn\, Bonngasse 13a\, Bonn\, 53111\, Deutschland
ATTACH;FMTTYPE=image/png:https://laufladen-bonn.de/wp-content/uploads/2026/04/Testschuhlauf-.png
END:VEVENT
END:VCALENDAR