BEGIN:VCALENDAR
VERSION:2.0
PRODID:-//Laufladen Bonn - ECPv6.9.1//NONSGML v1.0//EN
CALSCALE:GREGORIAN
METHOD:PUBLISH
X-ORIGINAL-URL:https://laufladen-bonn.de
X-WR-CALDESC:Veranstaltungen für Laufladen Bonn
REFRESH-INTERVAL;VALUE=DURATION:PT1H
X-Robots-Tag:noindex
X-PUBLISHED-TTL:PT1H
BEGIN:VTIMEZONE
TZID:Europe/Berlin
BEGIN:DAYLIGHT
TZOFFSETFROM:+0100
TZOFFSETTO:+0200
TZNAME:CEST
DTSTART:20220327T010000
END:DAYLIGHT
BEGIN:STANDARD
TZOFFSETFROM:+0200
TZOFFSETTO:+0100
TZNAME:CET
DTSTART:20221030T010000
END:STANDARD
END:VTIMEZONE
BEGIN:VEVENT
DTSTART;TZID=Europe/Berlin:20220810T183000
DTEND;TZID=Europe/Berlin:20220810T203000
DTSTAMP:20260420T143913
CREATED:20220803T134720Z
LAST-MODIFIED:20220803T134922Z
UID:1232-1660156200-1660163400@laufladen-bonn.de
SUMMARY:Road to 42 Tour
DESCRIPTION:Hoka ist seit diesem Jahr Hauptsponsor des Frankfurt Marathons\, das am letzten Wochenende im Oktober stattfinden wird. Aktuell bringt Hoka gerade die V5 des beliebten Mach auf den Markt. \nIm Rahmen unseres wöchentlichen Community Runs könnt ihr diesen neuen marathontauglichen Schuh optimal testen. Dazu haben wir uns folgendes einfallen lassen: \n\nAb 18:30h gibt es Testschuhe bei uns im Laden\nJeder Teilnehmer erhält eine Startnummer und schätzt seine/ihre Laufzeit auf 4.2km\nAlle vorangemeldeten Teilnehmer erhalten außerdem ein Hoka Funktions-Cap\nWir laufen entspannt zum Rhein runter\nDort ist eine 4.2km lange Strecke ausgemessen (2.1km Wendepunkt)\nIhr gebt Eure Uhren\, Handys etc. ab (oder lasst sie direkt zu Hause) und startet gemeinsam auf die Strecke\nWir stoppen Eure Laufzeiten\nMit einem schönen Preis (was kann das wohl sein 🙂 ? ) belohnen wir am Ende die/denjenigen Teilnehmer\, der am nächsten an seiner vorab geschätzten Zeit landet\n\nKlingt gut?! Dann meldet Euch schnell an\, so dass wir gut planen können. \nWir freuen uns auf Euch
URL:https://laufladen-bonn.de/veranstaltungen/road-to-42-tour/
LOCATION:Absolute Run – Laufladen Bonn\, Bonngasse 13a\, Bonn\, 53111\, Deutschland
CATEGORIES:Community Run,Testschuh-Event
ATTACH;FMTTYPE=image/jpeg:https://laufladen-bonn.de/wp-content/uploads/2022/08/HOKA_Mach5_SocialMedia_FBHeader_AbsolutRun_Roadshow_Bonn.jpg
END:VEVENT
END:VCALENDAR