BEGIN:VCALENDAR
VERSION:2.0
PRODID:-//Laufladen Bonn - ECPv6.9.1//NONSGML v1.0//EN
CALSCALE:GREGORIAN
METHOD:PUBLISH
X-ORIGINAL-URL:https://laufladen-bonn.de
X-WR-CALDESC:Veranstaltungen für Laufladen Bonn
REFRESH-INTERVAL;VALUE=DURATION:PT1H
X-Robots-Tag:noindex
X-PUBLISHED-TTL:PT1H
BEGIN:VTIMEZONE
TZID:Europe/Berlin
BEGIN:DAYLIGHT
TZOFFSETFROM:+0100
TZOFFSETTO:+0200
TZNAME:CEST
DTSTART:20230326T010000
END:DAYLIGHT
BEGIN:STANDARD
TZOFFSETFROM:+0200
TZOFFSETTO:+0100
TZNAME:CET
DTSTART:20231029T010000
END:STANDARD
END:VTIMEZONE
BEGIN:VEVENT
DTSTART;TZID=Europe/Berlin:20230524T180000
DTEND;TZID=Europe/Berlin:20230524T210000
DTSTAMP:20260424T151100
CREATED:20230508T194532Z
LAST-MODIFIED:20230524T094311Z
UID:2354-1684951200-1684962000@laufladen-bonn.de
SUMMARY:Saucony Take Courage Van Tour
DESCRIPTION:Wer an seine Grenzen gehen will\, braucht Courage. Diesen Spirit wollen\nwir gemeinsam mit Euch und Saucony bei einem besonderen Community Run am 24.5. teilen! \nWir treffen uns ab 18h in der Rheinaue Bonn\, Charles-de-Gaulle-Straße auf dem Parkplatz Nähe der „Kunstrasen“ Konzert-Fläche. Dort erwarten Euch der Saucony Take Courage Van\, der bis oben gefüllt ist mit den neusten Modelle der Endorphin-Kollektion sowie vielen Trainingsschuhen. \nUm 19h heißt es dann Time-to-Run! In Zweierteams sollen so viele Runden wie möglich um den Kunstrasen an der Rheinaue gelaufen werden. \nDanach lassen wir den Lauf gemeinsam mit ein paar kühlen Getränken ausklingen. Übrigens: jeder Teilnehmer wird mit einem Saucony Funktions-Shirt belohnt 🙂 \nHier alles in Kurzform: \n\nCommunity Run am 24.5.\nCharles-de-Gaulle Straße / Höhe Kunstrasen\n18h Start Ausleihe der Testschuhe\n19h Start des Events in Zweier-Teams (gerne schon mal drüber nachdenken\, mit wem Ihr laufen mögt)\nkostenloses Fkt-shirt\n\nZur besseren Planbarkeit bitten wir um Anmeldung! \nAchtung: das Event ist auf 60 Plätze begrenzt!
URL:https://laufladen-bonn.de/veranstaltungen/saucony-take-courage-van-tour/
LOCATION:Charles-de-Gaulle-Straße\, Charles-De-Gaulle-Straße\, Bonn\, Deutschland
CATEGORIES:Community Run,Testschuh-Event
ATTACH;FMTTYPE=image/png:https://laufladen-bonn.de/wp-content/uploads/2023/05/Saucony-Courage-Tour-2.png
END:VEVENT
END:VCALENDAR