BEGIN:VCALENDAR
VERSION:2.0
PRODID:-//Laufladen Bonn - ECPv6.9.1//NONSGML v1.0//EN
CALSCALE:GREGORIAN
METHOD:PUBLISH
X-WR-CALNAME:Laufladen Bonn
X-ORIGINAL-URL:https://laufladen-bonn.de
X-WR-CALDESC:Veranstaltungen für Laufladen Bonn
REFRESH-INTERVAL;VALUE=DURATION:PT1H
X-Robots-Tag:noindex
X-PUBLISHED-TTL:PT1H
BEGIN:VTIMEZONE
TZID:Europe/Berlin
BEGIN:DAYLIGHT
TZOFFSETFROM:+0100
TZOFFSETTO:+0200
TZNAME:CEST
DTSTART:20230326T010000
END:DAYLIGHT
BEGIN:STANDARD
TZOFFSETFROM:+0200
TZOFFSETTO:+0100
TZNAME:CET
DTSTART:20231029T010000
END:STANDARD
END:VTIMEZONE
BEGIN:VEVENT
DTSTART;TZID=Europe/Berlin:20231115T183000
DTEND;TZID=Europe/Berlin:20231115T203000
DTSTAMP:20260420T145045
CREATED:20231024T193954Z
LAST-MODIFIED:20231025T153540Z
UID:3158-1700073000-1700080200@laufladen-bonn.de
SUMMARY:Bonner Nikolauslauf @ Community Run
DESCRIPTION:Fans des Bonner Nikolauslaufs aufgepasst! \nWie auch schon in den Vorjahren besucht uns das Team des Bonner Nikolauslaufs bei unserem Community Run. Wer in der Vergangenheit schon mal bei diesem Event dabei war\, weiß\, dass es für jeden Läufer eine kleine Überraschung gibt (was das wohl sein kann?) 🙂 Außerdem verlosen wir 3*2 Startplätze sowie einen Einkaufs-Gutschein. \nWas Ihr machen müsst\, um dabei zu sein? Euch anmelden und am 15.11. zum Laufen kommen. \nWir freuen uns auf Euch
URL:https://laufladen-bonn.de/veranstaltungen/bonner-nikolauslauf-community-run/
LOCATION:Absolute Run – Laufladen Bonn\, Bonngasse 13a\, Bonn\, 53111\, Deutschland
CATEGORIES:Community Run
ATTACH;FMTTYPE=image/jpeg:https://laufladen-bonn.de/wp-content/uploads/2023/10/TOB_6155-scaled.jpg
END:VEVENT
END:VCALENDAR