BEGIN:VCALENDAR
VERSION:2.0
PRODID:-//Laufladen Bonn - ECPv6.9.1//NONSGML v1.0//EN
CALSCALE:GREGORIAN
METHOD:PUBLISH
X-WR-CALNAME:Laufladen Bonn
X-ORIGINAL-URL:https://laufladen-bonn.de
X-WR-CALDESC:Veranstaltungen für Laufladen Bonn
REFRESH-INTERVAL;VALUE=DURATION:PT1H
X-Robots-Tag:noindex
X-PUBLISHED-TTL:PT1H
BEGIN:VTIMEZONE
TZID:Europe/Berlin
BEGIN:DAYLIGHT
TZOFFSETFROM:+0100
TZOFFSETTO:+0200
TZNAME:CEST
DTSTART:20240331T010000
END:DAYLIGHT
BEGIN:STANDARD
TZOFFSETFROM:+0200
TZOFFSETTO:+0100
TZNAME:CET
DTSTART:20241027T010000
END:STANDARD
END:VTIMEZONE
BEGIN:VEVENT
DTSTART;TZID=Europe/Berlin:20240731T183000
DTEND;TZID=Europe/Berlin:20240731T203000
DTSTAMP:20260423T121214
CREATED:20240724T090011Z
LAST-MODIFIED:20240724T090011Z
UID:4566-1722450600-1722457800@laufladen-bonn.de
SUMMARY:Saucony Van Tour
DESCRIPTION:Am 31.7. haben wir einen besonderen Community Run für Euch am Start! \nUnd zwar kommt Saucony mit der Van-Tour und vielen Testschuhen vorbei. Dafür verlegen wir den Treffpunkt doch mal gerne – und zwar in die Rheinaue an den Minigolfplatz „Rheinpiraten“ (hier könnt Ihr entspannt parken). \nDieses Mal wollen wir auch nicht nur „normal“ laufen gehen\, sondern organisieren uns vor Ort in Dreier-Teams\, von denen abwechselnd zwei Leute eine kleine Runde laufen während das dritte Team-Mitglied kleine Übungen durchführt. \nKlingt so als wenn man dabei viel Spaß haben kann und ordentlich ins Schwitzen kommt! Wie immer gibt es natürlich nach dem Event eine kühle Erfrischung. \nBitte meldet Euch zur bessere Planung vorab an \nWir freuen uns auf Euch!
URL:https://laufladen-bonn.de/veranstaltungen/saucony-van-tour/
LOCATION:Abenteuergolf Rheinpiraten\, Herbert-Wehner Platz\, Bonn\, 53175\, Deutschland
CATEGORIES:Community Run,Testschuh-Event
ATTACH;FMTTYPE=image/jpeg:https://laufladen-bonn.de/wp-content/uploads/2024/07/Van-Tour-Asset-Bonn-scaled.jpg
END:VEVENT
END:VCALENDAR