BEGIN:VCALENDAR
VERSION:2.0
PRODID:-//Laufladen Bonn - ECPv6.9.1//NONSGML v1.0//EN
CALSCALE:GREGORIAN
METHOD:PUBLISH
X-ORIGINAL-URL:https://laufladen-bonn.de
X-WR-CALDESC:Veranstaltungen für Laufladen Bonn
REFRESH-INTERVAL;VALUE=DURATION:PT1H
X-Robots-Tag:noindex
X-PUBLISHED-TTL:PT1H
BEGIN:VTIMEZONE
TZID:Europe/Berlin
BEGIN:DAYLIGHT
TZOFFSETFROM:+0100
TZOFFSETTO:+0200
TZNAME:CEST
DTSTART:20240331T010000
END:DAYLIGHT
BEGIN:STANDARD
TZOFFSETFROM:+0200
TZOFFSETTO:+0100
TZNAME:CET
DTSTART:20241027T010000
END:STANDARD
END:VTIMEZONE
BEGIN:VEVENT
DTSTART;TZID=Europe/Berlin:20240831T080000
DTEND;TZID=Europe/Berlin:20240831T150000
DTSTAMP:20260419T193515
CREATED:20240317T210859Z
LAST-MODIFIED:20240317T211019Z
UID:3895-1725091200-1725116400@laufladen-bonn.de
SUMMARY:Panoramalauf rund um die Burg Are
DESCRIPTION:Ihr lauft gerne im Gelände? Dann seid Ihr beim Panoramalauf rund im die Burg Are genau richtig. \nDas Ahrtal lernt Ihr bei diesem Lauf von seiner herausfordernden Seite kennen\, denn es geht ordentlich hoch und runter. Und das über 19\, 35 oder 55km. \nTraut Euch 🙂
URL:https://laufladen-bonn.de/veranstaltungen/panoramalauf-rund-um-die-burg-are/
LOCATION:Martinshütte Altenahr\, Parkplatz Martinshütte\, Altenahr\, Rheinland-Pfalz\, 53505\, Deutschland
ATTACH;FMTTYPE=image/jpeg:https://laufladen-bonn.de/wp-content/uploads/2024/03/sv_selbstlaeufer_altenahr2.jpg
END:VEVENT
END:VCALENDAR