BEGIN:VCALENDAR
VERSION:2.0
PRODID:-//Laufladen Bonn - ECPv6.9.1//NONSGML v1.0//EN
CALSCALE:GREGORIAN
METHOD:PUBLISH
X-ORIGINAL-URL:https://laufladen-bonn.de
X-WR-CALDESC:Veranstaltungen für Laufladen Bonn
REFRESH-INTERVAL;VALUE=DURATION:PT1H
X-Robots-Tag:noindex
X-PUBLISHED-TTL:PT1H
BEGIN:VTIMEZONE
TZID:Europe/Berlin
BEGIN:DAYLIGHT
TZOFFSETFROM:+0100
TZOFFSETTO:+0200
TZNAME:CEST
DTSTART:20240331T010000
END:DAYLIGHT
BEGIN:STANDARD
TZOFFSETFROM:+0200
TZOFFSETTO:+0100
TZNAME:CET
DTSTART:20241027T010000
END:STANDARD
END:VTIMEZONE
BEGIN:VEVENT
DTSTART;TZID=Europe/Berlin:20240915T080000
DTEND;TZID=Europe/Berlin:20240915T170000
DTSTAMP:20260421T112756
CREATED:20240829T202525Z
LAST-MODIFIED:20240829T202818Z
UID:4728-1726387200-1726419600@laufladen-bonn.de
SUMMARY:Löwenburglauf
DESCRIPTION:Sportlich anspruchsvoll zu geht es am 15.9. beim Löwenburglauf mit seinen 15km durch das Siebengebirge. Wem das zu viel Steigung hat\, der kann auch die kurze Variante über 8\,8km laufen. \nAlso keine Ausreden und somit ab ins Siebengebirge!
URL:https://laufladen-bonn.de/veranstaltungen/loewenburglauf/
LOCATION:Lemmersbad Königswinter\, Oberweingartenweg\, Königswinter\, 53639
ATTACH;FMTTYPE=image/png:https://laufladen-bonn.de/wp-content/uploads/2024/08/Loewenburglauf.png
ORGANIZER;CN="Verein f%C3%BCr gesundheitsbewussten Ausdauersport e.V.":MAILTO:info@beueler10er.de
END:VEVENT
END:VCALENDAR