BEGIN:VCALENDAR
VERSION:2.0
PRODID:-//Laufladen Bonn - ECPv6.9.1//NONSGML v1.0//EN
CALSCALE:GREGORIAN
METHOD:PUBLISH
X-ORIGINAL-URL:https://laufladen-bonn.de
X-WR-CALDESC:Veranstaltungen für Laufladen Bonn
REFRESH-INTERVAL;VALUE=DURATION:PT1H
X-Robots-Tag:noindex
X-PUBLISHED-TTL:PT1H
BEGIN:VTIMEZONE
TZID:Europe/Berlin
BEGIN:DAYLIGHT
TZOFFSETFROM:+0100
TZOFFSETTO:+0200
TZNAME:CEST
DTSTART:20240331T010000
END:DAYLIGHT
BEGIN:STANDARD
TZOFFSETFROM:+0200
TZOFFSETTO:+0100
TZNAME:CET
DTSTART:20241027T010000
END:STANDARD
END:VTIMEZONE
BEGIN:VEVENT
DTSTART;TZID=Europe/Berlin:20240922T080000
DTEND;TZID=Europe/Berlin:20240922T170000
DTSTAMP:20260421T123855
CREATED:20240825T195000Z
LAST-MODIFIED:20240825T195132Z
UID:4704-1726992000-1727024400@laufladen-bonn.de
SUMMARY:#ZeroHungerRun Bonn
DESCRIPTION:Am 22.9. geht es endlich wieder los – der #ZeroHungerRun findet in der Rheinaue statt! \nBereits zum 7. Mal heißt es: Bonn geht an den Massenstart für eine faire Welt ohne Hunger und Armut. Bist du dabei?  Auch dieses Mal unterstützt deine freiwillige Startspende die Projektarbeit der Welthungerhilfe. Deshalb kannst du mit deiner Teilnahme in Bonn aktiv etwas bewegen – egal\, ob du ein Gelegenheitsjogger oder eine ambitionierte Langstreckenläuferin bist. Es gibt wie immer eine 5-km- und eine 10-km-Strecke\, auf der du alleine\, im Team\, walkend oder als Staffel antreten kannst. Auch die Kleinsten können sich wieder auf der 400-m-Runde beweisen. \nSchnapp dir Freund*innen und Familienmitglieder – wir sehen uns in der Rheinaue!
URL:https://laufladen-bonn.de/veranstaltungen/zerohungerrun-bonn/
LOCATION:Rheinauenpark Bonn\, Ludwig-Erhard-Allee 20\, Bonn\, 53175\, Deutschland
ATTACH;FMTTYPE=image/jpeg:https://laufladen-bonn.de/wp-content/uploads/2024/08/Key-Visual-ZHR-Bonn-2024-scaled.jpg
ORGANIZER;CN="Deutsche Welthungerhilfe e. V.":MAILTO:info@welthungerhilfe.de
END:VEVENT
END:VCALENDAR