BEGIN:VCALENDAR
VERSION:2.0
PRODID:-//Laufladen Bonn - ECPv6.9.1//NONSGML v1.0//EN
CALSCALE:GREGORIAN
METHOD:PUBLISH
X-WR-CALNAME:Laufladen Bonn
X-ORIGINAL-URL:https://laufladen-bonn.de
X-WR-CALDESC:Veranstaltungen für Laufladen Bonn
REFRESH-INTERVAL;VALUE=DURATION:PT1H
X-Robots-Tag:noindex
X-PUBLISHED-TTL:PT1H
BEGIN:VTIMEZONE
TZID:Europe/Berlin
BEGIN:DAYLIGHT
TZOFFSETFROM:+0100
TZOFFSETTO:+0200
TZNAME:CEST
DTSTART:20240331T010000
END:DAYLIGHT
BEGIN:STANDARD
TZOFFSETFROM:+0200
TZOFFSETTO:+0100
TZNAME:CET
DTSTART:20241027T010000
END:STANDARD
END:VTIMEZONE
BEGIN:VEVENT
DTSTART;TZID=Europe/Berlin:20241231T100000
DTEND;TZID=Europe/Berlin:20241231T130000
DTSTAMP:20260421T101905
CREATED:20241026T070351Z
LAST-MODIFIED:20241209T193336Z
UID:5296-1735639200-1735650000@laufladen-bonn.de
SUMMARY:Silvesterlauf Bonn
DESCRIPTION:In gewohnter Tradition schließt der von uns veranstaltete Silvesterlauf das Laufjahr in Bonn ab! \nIhr könnt über 5 oder 10km an den Start gehen. Auch für die Bambinis gibt es ein Angebot. \nHier könnt Ihr Euch direkt anmelden: Bonner Silvesterlauf\, 31.12.2024 : : my.race|result
URL:https://laufladen-bonn.de/veranstaltungen/silvesterlauf-bonn/
LOCATION:Rathenauufer Bonn\, Rathenauufer\, Bonn\, 53113\, Deutschland
ATTACH;FMTTYPE=image/png:https://laufladen-bonn.de/wp-content/uploads/2024/10/Silvesterlauf_2024_Social-1.png
END:VEVENT
END:VCALENDAR