BEGIN:VCALENDAR
VERSION:2.0
PRODID:-//Laufladen Bonn - ECPv6.9.1//NONSGML v1.0//EN
CALSCALE:GREGORIAN
METHOD:PUBLISH
X-WR-CALNAME:Laufladen Bonn
X-ORIGINAL-URL:https://laufladen-bonn.de
X-WR-CALDESC:Veranstaltungen für Laufladen Bonn
REFRESH-INTERVAL;VALUE=DURATION:PT1H
X-Robots-Tag:noindex
X-PUBLISHED-TTL:PT1H
BEGIN:VTIMEZONE
TZID:Europe/Berlin
BEGIN:DAYLIGHT
TZOFFSETFROM:+0100
TZOFFSETTO:+0200
TZNAME:CEST
DTSTART:20260329T010000
END:DAYLIGHT
BEGIN:STANDARD
TZOFFSETFROM:+0200
TZOFFSETTO:+0100
TZNAME:CET
DTSTART:20261025T010000
END:STANDARD
END:VTIMEZONE
BEGIN:VEVENT
DTSTART;TZID=Europe/Berlin:20260429T183000
DTEND;TZID=Europe/Berlin:20260429T213000
DTSTAMP:20260422T162802
CREATED:20260421T111332Z
LAST-MODIFIED:20260421T111332Z
UID:10578-1777487400-1777498200@laufladen-bonn.de
SUMMARY:Adidas Supernova Charge 2 - Community Run
DESCRIPTION:Am 29. April besucht uns Adidas bei unserem wöchentlichen Community Run und bringt den neuen Supernova Charge 2 zum Testen mit. Seid dabei\, wenn wir zusammen eine schöne Runde durch Bonn drehen. Wir laufen wie immer in drei verschiedenen Tempogruppen (5:30min./6:00min./6:30min.) und kommen im Anschluss wieder zur Erholung und Austausch im Absolute Run Laufladen Bonn zusammen. \nDamit wir dieses Event gut planen können\, ist die Teilnahme nur mit Anmeldung möglich. Wir freuen uns schon auf euch\, \nEuer Team vom Absolute Run Laufladen Bonn
URL:https://laufladen-bonn.de/veranstaltungen/adidas-supernova-charge-2-community-run/
LOCATION:Absolute Run – Laufladen Bonn\, Bonngasse 13a\, Bonn\, 53111\, Deutschland
ATTACH;FMTTYPE=image/png:https://laufladen-bonn.de/wp-content/uploads/2026/04/Testschuhlauf-.png
END:VEVENT
END:VCALENDAR