BEGIN:VCALENDAR
VERSION:2.0
PRODID:-//Laufladen Bonn - ECPv6.9.1//NONSGML v1.0//EN
CALSCALE:GREGORIAN
METHOD:PUBLISH
X-WR-CALNAME:Laufladen Bonn
X-ORIGINAL-URL:https://laufladen-bonn.de
X-WR-CALDESC:Veranstaltungen für Laufladen Bonn
REFRESH-INTERVAL;VALUE=DURATION:PT1H
X-Robots-Tag:noindex
X-PUBLISHED-TTL:PT1H
BEGIN:VTIMEZONE
TZID:Europe/Berlin
BEGIN:DAYLIGHT
TZOFFSETFROM:+0100
TZOFFSETTO:+0200
TZNAME:CEST
DTSTART:20240331T010000
END:DAYLIGHT
BEGIN:STANDARD
TZOFFSETFROM:+0200
TZOFFSETTO:+0100
TZNAME:CET
DTSTART:20241027T010000
END:STANDARD
END:VTIMEZONE
BEGIN:VEVENT
DTSTART;TZID=Europe/Berlin:20241103T093000
DTEND;TZID=Europe/Berlin:20241103T120000
DTSTAMP:20260419T150849
CREATED:20241021T124525Z
LAST-MODIFIED:20241026T070950Z
UID:5196-1730626200-1730635200@laufladen-bonn.de
SUMMARY:Trail Testschuhevent
DESCRIPTION:Auch in diesem Jahr laden wir wieder zu unserem Trail Testschuhevent durch das herbstliche Siebengebirge ein – dieses Mal treffen wir uns am Sonntag\, den 3.11.24. \nIhr werdet die Möglichkeit haben\, diverse Trailschuhe verschiedener Laufschuh-Marken zu testen!   \nWas erwartet Euch: \n\nEin breites Angebot an Testschuhen der Marken Altra\, Brooks\, New Balance und On\nGeleitetes Warm-Up inkl. Lauf-Abc\nEin entspannter Trainingslauf durch das Siebengebirge in drei verschiedenen Niveau-Gruppen\nDauer ca. 45min – 1\,5h mit Streckenlängen von 5 -12 km\nVerpflegung nach dem Lauf mit Getränken und Obst\n\nHier ist der Zeitplan für das Event \n\n09:30h Ausgabe der Testschuhe\n10:00h Warm-Up & Start der Läufe\n10:45h Rückkehr erste Gruppe\n11:30h Rückkehr letzte Gruppe\n12:00h Ende Veranstaltung\n\nDer Treffpunkt ist auf dem Parkplatz Ramersdorf. In das Navi gebt Ihr am besten „Königswinterer Str. 444“ ein. Wenn Ihr mit der Stadtbahn anreist (Linien 62\, 63\, 65\, 66 & 68)\, steigt Ihr an der Haltestelle „Bonn Ramersdorf“ aus. \nDort werden wir ganz einfach am Ende des Parkplatzes in Richtung der Brücke zu erkennen sein! In unserem Zelt können Wechselsachen deponiert werden. \nWir weisen darauf hin\, dass es sich bei dieser Veranstaltung um keinen Wettkampf handelt und die Teilnahme auf eigene Gefahr hin erfolgt. Mit Eurer Meldung stimmt Ihr dem Haftungsausschluss zu.
URL:https://laufladen-bonn.de/veranstaltungen/trail-testschuhevent-2/
LOCATION:Parkplatz Ramersdorf (U-Bahn)\, P&R Parkplatz Ramersdorf U\, Bonn\, 53227
CATEGORIES:Community Run,Testschuh-Event
ATTACH;FMTTYPE=image/jpeg:https://laufladen-bonn.de/wp-content/uploads/2024/10/Trail-Event-7gebirge-1.jpg
END:VEVENT
BEGIN:VEVENT
DTSTART;TZID=Europe/Berlin:20241108T200000
DTEND;TZID=Europe/Berlin:20241108T220000
DTSTAMP:20260419T150849
CREATED:20240917T094124Z
LAST-MODIFIED:20240917T094124Z
UID:4984-1731096000-1731103200@laufladen-bonn.de
SUMMARY:Dieter Baumann läuft halt
DESCRIPTION:Vor fünf Jahren war er schon einmal bei uns und jetzt besucht Dieter Baumann uns wieder! \nAm Freitag\, 8.11. tritt er wieder mit seinem Comedy / Theater-Programm bei uns auf und Ihr könnt dabei sein. \nDer Eintritt kostet 10\,-€ und Karten können ab sofort im Laden erworben werden. \n  \nWir freuen uns auf einen sicher wieder sehr lustigen Abend mit Euch! \nDieter Baumann & Euer Team vom Absolute Run – Laufladen Bonn
URL:https://laufladen-bonn.de/veranstaltungen/dieter-baumann-laeuft-halt/
LOCATION:Absolute Run – Laufladen Bonn\, Bonngasse 13a\, Bonn\, 53111\, Deutschland
ATTACH;FMTTYPE=image/png:https://laufladen-bonn.de/wp-content/uploads/2024/09/Dieter-Baumann.png
END:VEVENT
BEGIN:VEVENT
DTSTART;TZID=Europe/Berlin:20241120T183000
DTEND;TZID=Europe/Berlin:20241120T203000
DTSTAMP:20260419T150849
CREATED:20240917T092920Z
LAST-MODIFIED:20241119T124101Z
UID:4978-1732127400-1732134600@laufladen-bonn.de
SUMMARY:New Balance 1080v14 Community Run
DESCRIPTION:Im November besucht uns New Balance beim Community Run und bringt die V14 vom Fresh Foam X 1080 mit. \nEs gibt ein paar kleine Überraschungen und etwas zum Erfrischen danach\, so dass wir zur besseren Planung um vorherige Anmeldung bitten. \nWir freuen uns auf Euch \nEuer Team vom Absolute Run – Laufladen Bonn
URL:https://laufladen-bonn.de/veranstaltungen/new-balance-1080v14-community-run/
LOCATION:Absolute Run – Laufladen Bonn\, Bonngasse 13a\, Bonn\, 53111\, Deutschland
CATEGORIES:Community Run,Testschuh-Event
ATTACH;FMTTYPE=image/jpeg:https://laufladen-bonn.de/wp-content/uploads/2024/09/HW24_RUN_NB_FF1080-14_0476_FIN-scaled.jpg
END:VEVENT
END:VCALENDAR